BEGIN:VCALENDAR
VERSION:2.0
PRODID:-//One Voice Chorus - ECPv6.15.20//NONSGML v1.0//EN
CALSCALE:GREGORIAN
METHOD:PUBLISH
X-WR-CALNAME:One Voice Chorus
X-ORIGINAL-URL:https://onevoicechorus.com
X-WR-CALDESC:Events for One Voice Chorus
REFRESH-INTERVAL;VALUE=DURATION:PT1H
X-Robots-Tag:noindex
X-PUBLISHED-TTL:PT1H
BEGIN:VTIMEZONE
TZID:America/New_York
BEGIN:DAYLIGHT
TZOFFSETFROM:-0500
TZOFFSETTO:-0400
TZNAME:EDT
DTSTART:20250309T070000
END:DAYLIGHT
BEGIN:STANDARD
TZOFFSETFROM:-0400
TZOFFSETTO:-0500
TZNAME:EST
DTSTART:20251102T060000
END:STANDARD
BEGIN:DAYLIGHT
TZOFFSETFROM:-0500
TZOFFSETTO:-0400
TZNAME:EDT
DTSTART:20260308T070000
END:DAYLIGHT
BEGIN:STANDARD
TZOFFSETFROM:-0400
TZOFFSETTO:-0500
TZNAME:EST
DTSTART:20261101T060000
END:STANDARD
BEGIN:DAYLIGHT
TZOFFSETFROM:-0500
TZOFFSETTO:-0400
TZNAME:EDT
DTSTART:20270314T070000
END:DAYLIGHT
BEGIN:STANDARD
TZOFFSETFROM:-0400
TZOFFSETTO:-0500
TZNAME:EST
DTSTART:20271107T060000
END:STANDARD
END:VTIMEZONE
BEGIN:VEVENT
DTSTART;TZID=America/New_York:20260425T180000
DTEND;TZID=America/New_York:20260425T210000
DTSTAMP:20260424T112846
CREATED:20250829T153820Z
LAST-MODIFIED:20260416T154151Z
UID:31042-1777140000-1777150800@onevoicechorus.com
SUMMARY:Song & Savor: A Place at the Table!
DESCRIPTION:Featuring Chroma! \n\n\n\n \n\n\n\n\n\n\n\n\n\nJoin One Voice Chorus for our inaugural dinner and concert fundraiser: Song & Savor! This incredible night begins with a festive reception featuring catered hors d’oeuvres\, a silent auction\, and speakers from One Voice Chorus\, and then continues into a full-length performance from our small ensemble Chroma in the The Long Room in Plaza Midwood. From appetizers to dessert\, the sweet melodies of Chroma will leave you hungry for more! \n\n\n\nYour ticket includes admission to the pre-concert reception\, access to the silent auction and raffles\, and a VIP ticket to the concert performance from Chroma.  \n\n\n\nRuntime: Dinner begins at 6:00pm and includes access to our silent auction and raffles. The concert will begin at 7:30pm and lasts until approximately 9:00pm. \n\n\n\n\n\n\n\n\n\n\n\nClick Here to Visit our Silent Auction Page\n\n\n\n\n\n\n\n\n\n“This Venue Access Grant is funded by Mecklenburg County and proudly administered by the Arts & Science Council”
URL:https://onevoicechorus.com/event/song-and-savor26/
LOCATION:The Long Room\, 1111 Central Avenue\, Charlotte\, North Carolina\, 28204\, United States
CATEGORIES:Chroma,Concert,Special Event
ATTACH;FMTTYPE=image/jpeg:https://onevoicechorus.com/wp-content/uploads/2026/01/Song-Savor-Website-Header.jpg
END:VEVENT
BEGIN:VEVENT
DTSTART;TZID=America/New_York:20260626T000000
DTEND;TZID=America/New_York:20260627T235959
DTSTAMP:20260424T112846
CREATED:20250829T153820Z
LAST-MODIFIED:20251016T214447Z
UID:30759-1782432000-1782604799@onevoicechorus.com
SUMMARY:OVC's Summer Concert 2026: You Better Sing!
DESCRIPTION:Close out the season with One Voice Chorus in a show where the only rule is: don’t hold back. You Better Sing! is our karaoke-inspired\, high-energy\, belt-it-out celebration of the songs you love and the joy of singing loud and proud together.  \n\n\n\nFrom guilty pleasures to iconic anthems\, this interactive concert puts the audience in the spotlight\, with moments to sing along and relive your favorite karaoke bangers. Campy? Yes. Cathartic? Definitely. Queer? Always. So warm up those vocal cords\, grab your friends\, and get ready to join the chorus! Whether you’re ready to belt it out or just listen\, there’s a place for you at this show. No pressure\, all joy! \n\n\n\nParking: Free parking available at 163 W. Ninth St. \n\n\n\nRuntime: Approximately 1h\, 40 minutes including a 20-minute intermission. Snacks and refreshments will be available during intermission with donations encouraged. \n\n\n\n \n\n\n\nPurchase tickets by choosing one of the performances below:\n\n\n\n\nFriday\, June 26th\, 2026 7:30pm\n\n\n\nSATURDAY\, June 27th\, 2026 7:30pm
URL:https://onevoicechorus.com/event/ovcs-summer-concert-you-better-sing/
LOCATION:First United Methodist Church\, 501 N Tryon Street\, Charlotte\, NC\, 28202\, United States
ATTACH;FMTTYPE=image/jpeg:https://onevoicechorus.com/wp-content/uploads/2025/08/2025_You-Better-Sing_Web-Assets_Web-Banner-1.jpg
END:VEVENT
END:VCALENDAR