BEGIN:VCALENDAR
VERSION:2.0
PRODID:-//One Voice Chorus - ECPv6.15.20//NONSGML v1.0//EN
CALSCALE:GREGORIAN
METHOD:PUBLISH
X-ORIGINAL-URL:https://onevoicechorus.com
X-WR-CALDESC:Events for One Voice Chorus
REFRESH-INTERVAL;VALUE=DURATION:PT1H
X-Robots-Tag:noindex
X-PUBLISHED-TTL:PT1H
BEGIN:VTIMEZONE
TZID:America/New_York
BEGIN:DAYLIGHT
TZOFFSETFROM:-0500
TZOFFSETTO:-0400
TZNAME:EDT
DTSTART:20180311T070000
END:DAYLIGHT
BEGIN:STANDARD
TZOFFSETFROM:-0400
TZOFFSETTO:-0500
TZNAME:EST
DTSTART:20181104T060000
END:STANDARD
BEGIN:DAYLIGHT
TZOFFSETFROM:-0500
TZOFFSETTO:-0400
TZNAME:EDT
DTSTART:20190310T070000
END:DAYLIGHT
BEGIN:STANDARD
TZOFFSETFROM:-0400
TZOFFSETTO:-0500
TZNAME:EST
DTSTART:20191103T060000
END:STANDARD
BEGIN:DAYLIGHT
TZOFFSETFROM:-0500
TZOFFSETTO:-0400
TZNAME:EDT
DTSTART:20200308T070000
END:DAYLIGHT
BEGIN:STANDARD
TZOFFSETFROM:-0400
TZOFFSETTO:-0500
TZNAME:EST
DTSTART:20201101T060000
END:STANDARD
END:VTIMEZONE
BEGIN:VEVENT
DTSTART;TZID=America/New_York:20190713T193000
DTEND;TZID=America/New_York:20190713T193000
DTSTAMP:20260424T181255
CREATED:20190621T130201Z
LAST-MODIFIED:20190713T160912Z
UID:19012-1563046200-1563046200@onevoicechorus.com
SUMMARY:Box Wine Cabaret: Jokers Wild
DESCRIPTION:Join the singers of Sotto Voce for a fun-filled evening of cabaret style songs at the 2nd annual Box Wine Cabaret. With musical offerings as indiscriminate as our personalities\, attendees will experience a wildcard evening of choral pieces\, show tunes\, jazz numbers\, and popular songs. Browse the local art in the gallery with your pinkies held high as you sip on unlimited wine from the finest boxes. Leave your troubles outside – joker is wild at the cabaret.\n \nOnline ticket sales have ended. Tickets can be purchased at the door.
URL:https://onevoicechorus.com/event/box-wine-cabaret-jokers-wild/
LOCATION:Charlotte Art League\, 4100 Raleigh St\, Charlotte\, NC\, 28206\, United States
CATEGORIES:Box Wine Cabaret,Sotto Voce
ATTACH;FMTTYPE=image/jpeg:https://onevoicechorus.com/wp-content/uploads/2019/06/BoxWine_JokersWild_FBCover.jpg
ORGANIZER;CN="One Voice Chorus":MAILTO:info@onevoicechorus.com
END:VEVENT
END:VCALENDAR